BEGIN:VCALENDAR
VERSION:2.0
PRODID:-//Freie Schule Elztal - ECPv4.6.10.1//NONSGML v1.0//EN
CALSCALE:GREGORIAN
METHOD:PUBLISH
X-WR-CALNAME:Freie Schule Elztal
X-ORIGINAL-URL:https://www.freieschuleelztal.de
X-WR-CALDESC:Veranstaltungen für Freie Schule Elztal
BEGIN:VEVENT
DTSTART;TZID=UTC+2:20251126T200000
DTEND;TZID=UTC+2:20251126T213000
DTSTAMP:20260420T125343
CREATED:20250929T130926Z
LAST-MODIFIED:20251112T111052Z
UID:5284-1764187200-1764192600@www.freieschuleelztal.de
SUMMARY:Informationsabend zur Einschulung 2026/27
DESCRIPTION:Informationsabend zu Einschulung und Seiteneinstieg\nWir laden alle interessierten Eltern zum Informationsabend ein. Dieser richtet sich an Eltern von Schulanfängern im Schuljahr 2026/27 sowie an Eltern\, die einen Schulwechsel für ihr Kind in Betracht ziehen. Die Teilnahme wird als Voraussetzung für eine Aufnahme betrachtet. \n \nLehrkräfte stellen das Schulkonzept vor und es bleibt ausreichend Raum für Fragen und Gespräch.  \nMittwoch\, 26. November 2025 um 20:00 Uhr im Schulhaus Maxhaus  \n
URL:https://www.freieschuleelztal.de/event/informationsabend-zur-einschulung-2026-27/
CATEGORIES:Infoveranstaltung
END:VEVENT
END:VCALENDAR